BEGIN:VCALENDAR
VERSION:2.0
PRODID:-//Vokal Total - ECPv6.2.9//NONSGML v1.0//EN
CALSCALE:GREGORIAN
METHOD:PUBLISH
X-ORIGINAL-URL:https://www.vokal-total-festival.de
X-WR-CALDESC:Veranstaltungen für Vokal Total
REFRESH-INTERVAL;VALUE=DURATION:PT1H
X-Robots-Tag:noindex
X-PUBLISHED-TTL:PT1H
BEGIN:VTIMEZONE
TZID:Europe/Berlin
BEGIN:DAYLIGHT
TZOFFSETFROM:+0100
TZOFFSETTO:+0200
TZNAME:CEST
DTSTART:20260329T010000
END:DAYLIGHT
BEGIN:STANDARD
TZOFFSETFROM:+0200
TZOFFSETTO:+0100
TZNAME:CET
DTSTART:20261025T010000
END:STANDARD
END:VTIMEZONE
BEGIN:VEVENT
DTSTART;TZID=Europe/Berlin:20261121T190000
DTEND;TZID=Europe/Berlin:20261121T203000
DTSTAMP:20260426T045427
CREATED:20251031T121949Z
LAST-MODIFIED:20260108T133836Z
UID:10000041-1795287600-1795293000@www.vokal-total-festival.de
SUMMARY:VOKAL TOTAL - Rock4 - The Vocal Experience
DESCRIPTION:Welthits wie Whole Lotta Love\, Paranoid Android\, Wish You Were Here\, Land Of Confusion und Insomnia\, interpretiert von vier Sängern mit der Stimme als einzigem Instrument. \nRock4\, die Nummer 1 A-Cappella-Gruppe aus den Niederlanden\, hat sich in den letzten Jahren entwickelt zu einer richtigen Vocal-Rock-Band mit einem tiefen Bass und einem Perkussionisten von Weltklasse\, einem beeindruckenden Leadsänger und einem großartigen\, klassischen Tenor. Stimmkünstler auf höchstem Niveau\, die gemeinsam die Grenzen um Gesang\, Rhythmus und Harmonien schärfen und erweitern. \nMit dem Programm “The Vocal Experience”\, entführt Rock4 das Publikum auf eine emotionale Zeitreise mit unter anderem Songs von Pink Floyd\, The Beatles und Queen aber auch von Billie Eilish und Faithless. Dabei werden alle musikalischen Register gezogen mit packenden Soli und einzigartigen\, berührenden Liedinterpretationen. \n“The Vocal Experience“: Ein mitreißendes Gesangserlebnis voller Leidenschaft\, Kraft und Humor. \n________________________________________________________________________ \nRock4 besteht aus vier Sängern mit eigenem Stil und Hintergrund. Luc Devens ist der dynamische Leadsänger\, Lucas Blommers der klare\, klassische Tenor\, Phillip Schröter der energische Perkussionist/Vokalist und Miklós Németh der tiefe Bass\, der das perfekte Fundament für die Gruppe sicherstellt. \nRock4 tritt in den Niederlanden und in Deutschland\, darüber hinaus auch in ganz Europa und Asien sehr erfolgreich auf. Die Sänger gewannen verschiedene Wettbewerbe\, wie das Vokal Total Festival in Graz und das Vox Populi Festival in Sankt Pölten. Außerdem erhielten sie den amerikanischen CARA Award für das beste Pop/Rock-Cover für ihre Bearbeitung von „Uninvited“ von Alanis Morissette. \n\n \nFoto: André Dieterman
URL:https://www.vokal-total-festival.de/event/vokal-total-rock4-the-vocal-experience/
LOCATION:Intermezzo (Spectaculum Mundi)\, Graubündener Straße 100\, München\, 81475\, Deutschland
CATEGORIES:Vokal Total
ATTACH;FMTTYPE=image/jpeg:https://www.vokal-total-festival.de/wp-content/uploads/2025/11/Rock4-scaled.jpeg
GEO:48.09412;11.48173
X-APPLE-STRUCTURED-LOCATION;VALUE=URI;X-ADDRESS=Intermezzo (Spectaculum Mundi) Graubündener Straße 100 München 81475 Deutschland;X-APPLE-RADIUS=500;X-TITLE=Graubündener Straße 100:geo:11.48173,48.09412
END:VEVENT
BEGIN:VEVENT
DTSTART;TZID=Europe/Berlin:20261127T190000
DTEND;TZID=Europe/Berlin:20261127T203000
DTSTAMP:20260426T045427
CREATED:20251031T125211Z
LAST-MODIFIED:20260108T133809Z
UID:10000042-1795806000-1795811400@www.vokal-total-festival.de
SUMMARY:VOKAL TOTAL - anders - "So kurz davor"
DESCRIPTION:Mit ihrem neuen Programm „So kurz davor“ gehen die fünf Sänger aufs Ganze und besingen das Leben in all seinen Facetten auf ihre eigene poetische Weise: Humoristisch\, melancholisch\, philosophisch fragend und selbstbewusst. Anders präsentieren eine fulminante A-Cappella-Show mit unverkennbaren Popsound\, authentischen Songs und einer Publikumsnähe\, die ihresgleichen sucht. Der Programmtitel „So kurz davor“ ist folgerichtig weniger als Selbstbeschreibung\, denn vielmehr als Versprechung zu verstehen. Mit „So kurz davor“ zeigt die Freiburger Formation einmal mehr\, dass sie es schon jetzt mit den Großen der Szene aufnehmen kann. \nhttp://www.anders-band.de
URL:https://www.vokal-total-festival.de/event/vokal-total-anders/
LOCATION:Intermezzo (Spectaculum Mundi)\, Graubündener Straße 100\, München\, 81475\, Deutschland
CATEGORIES:Vokal Total
ATTACH;FMTTYPE=image/jpeg:https://www.vokal-total-festival.de/wp-content/uploads/2025/10/anders.jpeg
GEO:48.09412;11.48173
X-APPLE-STRUCTURED-LOCATION;VALUE=URI;X-ADDRESS=Intermezzo (Spectaculum Mundi) Graubündener Straße 100 München 81475 Deutschland;X-APPLE-RADIUS=500;X-TITLE=Graubündener Straße 100:geo:11.48173,48.09412
END:VEVENT
BEGIN:VEVENT
DTSTART;TZID=Europe/Berlin:20261204T190000
DTEND;TZID=Europe/Berlin:20261204T203000
DTSTAMP:20260426T045427
CREATED:20251101T090945Z
LAST-MODIFIED:20260108T133641Z
UID:10000043-1796410800-1796416200@www.vokal-total-festival.de
SUMMARY:VOKAL TOTAL – Aquabella - Aquabella – WinterWunderWeltmusik
DESCRIPTION:A-Cappella-Klangwelten zur schönsten Zeit des Jahres\nWenn der Winter die Welt in glitzernde Stille taucht\, öffnet sich ein Raum für besondere Klänge. Das renommierte Vokalensemble Aquabella lädt mit seinem Programm „WinterWunderWeltmusik“ zu einer stimmungsvollen Konzertreise durch sechzehn Länder ein.\nVier außergewöhnliche Sängerinnen verbinden ihre Stimmen mit stimmungsvoller Inszenierung\, Body Percussion und poetischen Lichtspielen zu einem sinnlichen Gesamterlebnis. Bekannte und selten gehörte Winterlieder erzählen von Wundern\, Bräuchen und leuchtenden Momenten in der dunkelsten Zeit des Jahres – vom blühenden Dornenbusch mitten im Winter bis zu einem kleinen Pferdchen\, das sich seinen Weg durch den lettischen Schnee bahnt\, um seinen Reiter sicher durch sieben Gefahren ans Ziel zu bringen.\nMit Humor\, Herzenswärme und beeindruckender vokaler Vielfalt schaffen Aquabella eine Atmosphäre\, die zwischen festlicher Geste und wohliger Nähe schwebt. Ihr unverwechselbarer Klang führt das Publikum auf eine Reise durch Kulturen und Traditionen – berührend\, lebendig und voller Licht.\nEin Abend\, der einlädt zum Staunen\, Lauschen und Innehalten. \nWeitere Informationen: https://www.aquabella.net
URL:https://www.vokal-total-festival.de/event/vokal-total-aquabella/
LOCATION:Intermezzo (Spectaculum Mundi)\, Graubündener Straße 100\, München\, 81475\, Deutschland
CATEGORIES:Vokal Total
ATTACH;FMTTYPE=image/png:https://www.vokal-total-festival.de/wp-content/uploads/2025/11/AQUABELLA-05-25-S-Pressefoto-1-Fotograf-A.-Hartung1.png
GEO:48.09412;11.48173
X-APPLE-STRUCTURED-LOCATION;VALUE=URI;X-ADDRESS=Intermezzo (Spectaculum Mundi) Graubündener Straße 100 München 81475 Deutschland;X-APPLE-RADIUS=500;X-TITLE=Graubündener Straße 100:geo:11.48173,48.09412
END:VEVENT
END:VCALENDAR