BEGIN:VCALENDAR
VERSION:2.0
PRODID:-//Vokal Total - ECPv6.2.9//NONSGML v1.0//EN
CALSCALE:GREGORIAN
METHOD:PUBLISH
X-ORIGINAL-URL:https://www.vokal-total-festival.de
X-WR-CALDESC:Veranstaltungen für Vokal Total
REFRESH-INTERVAL;VALUE=DURATION:PT1H
X-Robots-Tag:noindex
X-PUBLISHED-TTL:PT1H
BEGIN:VTIMEZONE
TZID:Europe/Berlin
BEGIN:DAYLIGHT
TZOFFSETFROM:+0100
TZOFFSETTO:+0200
TZNAME:CEST
DTSTART:20250330T010000
END:DAYLIGHT
BEGIN:STANDARD
TZOFFSETFROM:+0200
TZOFFSETTO:+0100
TZNAME:CET
DTSTART:20251026T010000
END:STANDARD
END:VTIMEZONE
BEGIN:VEVENT
DTSTART;TZID=Europe/Berlin:20251213T190000
DTEND;TZID=Europe/Berlin:20251213T203000
DTSTAMP:20260421T070748
CREATED:20230113T155451Z
LAST-MODIFIED:20251020T192647Z
UID:10000011-1765652400-1765657800@www.vokal-total-festival.de
SUMMARY:VOKAL TOTAL–VoicesInTime  "Aufstehen\, rausgehen!" - Chorleiterin: Sonja Lachenmayr - AUSVERKAUFT\, nur noch 10 Stehplätze
DESCRIPTION:Aufstehen\, rausgehen! \nSo facettenreich kann Chormusik im 21. Jahrhundert sein! Der Rock- und Jazzchor VoicesInTime präsentiert ein Programm voller Energie\, Bewegung und Emotionen. Das renommierte A-Cappella-Ensemble singt mit großer Leidenschaft und stimmlicher Präzision Songs von Künstler:innen\, die unterschiedlicher kaum sein könnten: Freut euch auf sympathischen Rock von den Sportfreunden Stiller\, auf Hits von Pop-Giganten wie Ed Sheeran\, auf Goldie-Oldies von Elton John oder Genesis und auf Jazz-Funk mit Herbie Hancock. Manchmal muss man sich eben aufraffen\, rausgehen und das bunte Leben feiern! \nwww.VoicesInTime.de \n  \nVeranstalter: proVIT – Friends of VoicesInTime e.V. \n  \n  \n 
URL:https://www.vokal-total-festival.de/event/vokal-total-voicesintime-st-kalmer/
LOCATION:Intermezzo (Spectaculum Mundi)\, Graubündener Straße 100\, München\, 81475\, Deutschland
CATEGORIES:Vokal Total
ATTACH;FMTTYPE=image/jpeg:https://www.vokal-total-festival.de/wp-content/uploads/2025/01/VoicesInTime.jpg
GEO:48.09412;11.48173
X-APPLE-STRUCTURED-LOCATION;VALUE=URI;X-ADDRESS=Intermezzo (Spectaculum Mundi) Graubündener Straße 100 München 81475 Deutschland;X-APPLE-RADIUS=500;X-TITLE=Graubündener Straße 100:geo:11.48173,48.09412
END:VEVENT
END:VCALENDAR