BEGIN:VCALENDAR
VERSION:2.0
PRODID:-//Vokal Total - ECPv6.2.9//NONSGML v1.0//EN
CALSCALE:GREGORIAN
METHOD:PUBLISH
X-WR-CALNAME:Vokal Total
X-ORIGINAL-URL:https://www.vokal-total-festival.de
X-WR-CALDESC:Veranstaltungen für Vokal Total
REFRESH-INTERVAL;VALUE=DURATION:PT1H
X-Robots-Tag:noindex
X-PUBLISHED-TTL:PT1H
BEGIN:VTIMEZONE
TZID:Europe/Berlin
BEGIN:DAYLIGHT
TZOFFSETFROM:+0100
TZOFFSETTO:+0200
TZNAME:CEST
DTSTART:20250330T010000
END:DAYLIGHT
BEGIN:STANDARD
TZOFFSETFROM:+0200
TZOFFSETTO:+0100
TZNAME:CET
DTSTART:20251026T010000
END:STANDARD
END:VTIMEZONE
BEGIN:VEVENT
DTSTART;TZID=Europe/Berlin:20251108T190000
DTEND;TZID=Europe/Berlin:20251108T203000
DTSTAMP:20260421T014120
CREATED:20250108T122621Z
LAST-MODIFIED:20250114T223830Z
UID:10000039-1762628400-1762633800@www.vokal-total-festival.de
SUMMARY:Vokal Total - GlasBlasSing - "Happy Hour"
DESCRIPTION:Scherben bringen Glück\, heißt es. Doch wer auf ’ne richtige Portion Glück aus ist\, lässt die Flaschen ganz. Und macht damit Musik. Flaschenmusik.\nDass selbst Trauermärsche heiter klingen\, wenn man sie auf Flaschen spielt\, haben GlasBlasSing auch in der Vergangenheit schon empirisch belegt. Jetzt stellen sie sich mit „Happy Hour“ furchtlos und gänzlich den Sonnenseiten des Lebens. In einer Zeit\, in der die meisten darauf schauen\, was ihnen fehlt und was sie stört\, fragen sie: Was tut uns gut? Warum vergisst man das immer wieder? Kann man Glück haben und gleichzeitig glücklich sein? Happy UND Lucky? Kann man zu glücklich sein und wie klingt das musikalisch? Glück teilen\, um es zu multiplizieren – wie ertragen das Mathematiker? Kann man auf der Bühne wirklich ein Glücksrad über die Songreihenfolge entscheiden lassen? Ist eine bis zur Mitte gefüllte Bierflasche halbvoll oder halbleer? (Antwort: Weder noch. Es ist ein Cis.) „Happy Hour“\, das ist nicht nur eine\, das sind knapp zwei Stunden akustische Wonnen\, erzeugt auf allem\, was der Flüssigkeitenaufbewahrungsfachhandel zu bieten hat. Glückspilse erklingen für Glückspilze. Dafür stehen GlasBlasSing. \nwww.glasblassing.de
URL:https://www.vokal-total-festival.de/event/vokal-total-glasblassing-happy-hour/
LOCATION:Intermezzo (Spectaculum Mundi)\, Graubündener Straße 100\, München\, 81475\, Deutschland
CATEGORIES:Vokal Total
ATTACH;FMTTYPE=image/jpeg:https://www.vokal-total-festival.de/wp-content/uploads/2025/01/GlasBlasSing-scaled.jpg
GEO:48.09412;11.48173
X-APPLE-STRUCTURED-LOCATION;VALUE=URI;X-ADDRESS=Intermezzo (Spectaculum Mundi) Graubündener Straße 100 München 81475 Deutschland;X-APPLE-RADIUS=500;X-TITLE=Graubündener Straße 100:geo:11.48173,48.09412
END:VEVENT
BEGIN:VEVENT
DTSTART;TZID=Europe/Berlin:20251115T190000
DTEND;TZID=Europe/Berlin:20251115T200000
DTSTAMP:20260421T014120
CREATED:20240911T124122Z
LAST-MODIFIED:20251106T184538Z
UID:10000037-1763233200-1763236800@www.vokal-total-festival.de
SUMMARY:VOKAL  TOTAL  2025! - maybebop - "Wünsch dir was" -- Gibt wieder 5 Tickets bei Münchenticket!
DESCRIPTION: … ein Geschenk für die treue Fangemeinde \nÜber 20 Jahre MAYBEBOP –  ausverkaufte Konzerttourneen von Berlin bis Saarbrücken\, von Flensburg bis Passau\, über 200 TV-Auftritten \, zwei Jahrzehnte begeisterte Konzertbesucher! \n„Die Maybebopper wissen einfach\, wie man Erwartungen erfüllt und mit Leichtigkeit unterhält“\, lobt die „Hannoversche Allg. Zeitung“\, „das Tempo der Show ist flott\, Sound und Licht perfekt\, eine gut dosierte Song-Mischung garantiert bestes Entertainment.“ \n  \nUnd für das treue MAYBEBOP-Publikum haben die vier Interpreten in jedem Konzert ein kleines Wunschkonzert geplant. Die Fans können sich aus dem MAYBEBOP-Hitmaterial ihren Lieblingssong wünschen. Entweder per e-Mail an kontakt@maybebop.de oder bei facebook/ im Gästebuch etc. oder auf Zuruf am Ende der ersten Konzerthälfte. „Wünsch Dir was“ macht jedes Konzert zu einem doppelten Genuss.“ \n  \nMAYBEBOP sind vier schräge Typen\, die sich in der Musik-und Theaterszene etabliert haben. Ihr Charme ist einfach unwiderstehlich\, sie singen super\, tanzen gerne\, sind albern und doch ernst\, sind künstlerisch einzigartig. \nMAYBEBOP präsentieren praktisch eine eigene Kunstform. Diese Eigenständigkeit verleiht ihrer Kunst Geheimratsecken: angenehm reif und gerade deshalb verlockend sexy. \nMAYBEBOP sind Jan M. Bürger\, Lukas H.H.Teske\, Oliver Gies und Christoph Hiller. \n  \nUnd wie beschreibt die Band sich selbst? „Maybebop macht witzigen\, hintergründigen Deutsch-Pop ohne Instrumente\, weil die Stimme das Schönste aller Instrumente ist. Es macht einfach tierisch Spaß. Außerdem können wir nix anderes.“ \n  \nIhre durchweg eigenen deutschen Songs durchleuchten den Wahnsinn des täglichen Seins: witzig und berührend\, manchmal böse und skurril\, aber immer mit wohltuendem Tiefgang und musikalisch unglaublich vielfältig. Mit ihrer perfekt durchgestylten Show berühren sie alle Sinne und bleiben dabei immer nah am Publikum. \n  \nWas darf man auf einem MAYBEBOP-Konzert erwarten? „Kurzweiliges und mitreißendes Entertainment. Mit unseren ausgefeilten Arrangements begeistern wir musikalisch\, mit unserem Spaß auf der Bühne haben wir bis jetzt noch jedes Publikum angesteckt. Es gibt viel zu lachen\, zu schmunzeln\, zu genießen und manchmal das eine oder andere Tränchen zu verdrücken.“ \n 
URL:https://www.vokal-total-festival.de/event/vokal-total-maybebop-wuensch-dir-was/
LOCATION:Alte Kongresshalle\, Theresienhöhe 14\, München\, 80339\, Deutschland
CATEGORIES:Vokal Total
ATTACH;FMTTYPE=image/jpeg:https://www.vokal-total-festival.de/wp-content/uploads/2024/09/maybebop.jpeg
GEO:48.1328;11.5459
X-APPLE-STRUCTURED-LOCATION;VALUE=URI;X-ADDRESS=Alte Kongresshalle Theresienhöhe 14 München 80339 Deutschland;X-APPLE-RADIUS=500;X-TITLE=Theresienhöhe 14:geo:11.5459,48.1328
END:VEVENT
BEGIN:VEVENT
DTSTART;TZID=Europe/Berlin:20251122T190000
DTEND;TZID=Europe/Berlin:20251122T200000
DTSTAMP:20260421T014120
CREATED:20181129T220045Z
LAST-MODIFIED:20251119T193352Z
UID:10000022-1763838000-1763841600@www.vokal-total-festival.de
SUMMARY:VOKAL TOTAL - Alte Bekannte - neues Programm: „Mehr! - Live“
DESCRIPTION:Am 24. Oktober 2025 erscheint das neue Album der „ALTEN BEKANNTEN“ (Wise-Guys-Nachfolger) – „Mehr!“ 🎶 \nUnd am Samstag\, den 22. November findet im Rahmen von VOKAL TOTAL das Konzert in der Alten Kongresshalle statt. \n\n\nMit ihrem neuen Album „Mehr!“ beweisen Alte Bekannte\, dass sie längst mehr sind als nur die Nachfolger der Wise Guys: Die fünf Ausnahmesänger haben ihren ganz eigenen Sound gefunden und melden sich mit einem beeindruckenden Werk zurück. Der Albumtitel ist dabei Programm – mehr Vielfalt\, mehr Emotion\, mehr Musikgenuss. \nDas fünfte Studioalbum der Band bietet mit 15 brandneuen Songs und drei Live-Aufnahmen so viel Musik wie nie zuvor. Schlag auf Schlag wechseln mitreißende Spaßnummern wie „Tassen“ oder „Irgendwas ist immer“ mit gefühlvollen Balladen („Fehlt nichts“\, „Was ich in dir seh’“) und textlich cleveren Alltagsbeobachtungen wie „Sprachnachricht“ oder „Wenn man’s einmal kann“. Auch gesellschaftskritische Töne kommen nicht zu kurz – etwa in „Die graue Litfaßsäule“ oder „Wir sind mehr“. \nEin Großteil der Songs entstand Anfang 2025 während einer kreativen Auszeit in einem einsamen Ferienhaus in Holland. Das Ergebnis: Ein Album voller Spielfreude\, Vielfalt und musikalischer Überraschungen – ein echtes Statement einer Band\, die längst ihren eigenen Platz in der deutschen Musiklandschaft eingenommen hat. \n🎧 Zum Reinhören: \n\n\n„Mehr! – Live“: Das neue Bühnenprogramm\nSeit März 2025 ist die A-Cappella-Erfolgsband mit ihrem neuen Live-Programm „Mehr! – Live“ auf Tour. Der Titel hält\, was er verspricht:\nMehr neue Songs\, mehr Energie\, mehr Emotionen – und jede Menge unvergessliche Momente. \nDas Repertoire reicht von brandneuen Eigenkompositionen über Highlights der letzten vier Alben bis hin zu beliebten Klassikern der Wise Guys. Witzig\, nachdenklich\, tanzbar – diese Show bleibt hängen und hinterlässt vor allem eines: Lust auf mehr! \nwww.altebekannte.band\n🎫 Tickets: erhältlich bei Eventim und Münchenticket \n\n\n\nKat.  1 €  38\,00 + Gebühren          AK: € 44\,00\nKat.  2 € 35\,00  + Gebühren         AK: € 40\,00\n  \nVeranstalter: MM Konzerte GmbH \n  \n  \n  \n  \n  \n 
URL:https://www.vokal-total-festival.de/event/alte-bekannte-das-leben-ist-schoen-tour/
LOCATION:Alte Kongresshalle\, Theresienhöhe 14\, München\, 80339\, Deutschland
CATEGORIES:Vokal Total
ATTACH;FMTTYPE=image/jpeg:https://www.vokal-total-festival.de/wp-content/uploads/2024/11/Alte-Bekannte-neues-Programm-scaled.jpeg
GEO:48.1328;11.5459
X-APPLE-STRUCTURED-LOCATION;VALUE=URI;X-ADDRESS=Alte Kongresshalle Theresienhöhe 14 München 80339 Deutschland;X-APPLE-RADIUS=500;X-TITLE=Theresienhöhe 14:geo:11.5459,48.1328
END:VEVENT
BEGIN:VEVENT
DTSTART;TZID=Europe/Berlin:20251127T190000
DTEND;TZID=Europe/Berlin:20251127T203000
DTSTAMP:20260421T014120
CREATED:20231114T114147Z
LAST-MODIFIED:20251025T122828Z
UID:10000030-1764270000-1764275400@www.vokal-total-festival.de
SUMMARY:VOKAL TOTAL - Rock4 (NL) -  AUSVERKAUFT
DESCRIPTION:50 Jahre Bohemian Rhapsody. 50 Jahre A Night At The Opera\, das facettenreiche Meisterwerk von Queen und eines der berühmtesten Alben aller Zeiten. Rock4 zelebriert diesen Meilenstein der Musikgeschichte auf grandiose Art und Weise\, mit der Stimme als einzigem Instrument.\n\nIn den letzten Jahren entwickelte sich Rock4 zu einer Vokal-Rockband: Mit einem tiefen Bass und einem Perkussionisten von Weltklasse\, einem beeindruckenden Leadsänger und einem großartigen\, klassischen Tenor.\nStimmkünstler von höchstem Niveau\, die das Publikum in die kraftvollen Queen-Songs mitnehmen mit ihren vielfältigen Musikstilen\, reichen Harmonien und subtilen\, emotionalen Interpretationen.\n\nVon Love Of My Life bis Death On Two Legs und von You’re My Best Friend bis The Prophet’s Song; alle Songs des Albums werden gesungen und natürlich bildet der Klassiker unter den Klassikern den krönenden Abschluss\, die Bohemian Rhapsody.\n\nEine Reihe anderer bekannter Hits\, darunter Killer Queen\, Innuendo\, You Don’t Fool Me\, Radio Gaga und Who Wants To Live Forever runden den Abend harmonisch ab.\n\nDas Unmögliche wahr werden lassen-Rock4 nimmt diese Herausforderung an und bietet einen einzigartigen Abend mit dem ultimativen Queen-Erlebnis: Die Aufführung des Albums A Night At The Opera.\nwww.rock4.nl
URL:https://www.vokal-total-festival.de/event/vokal-total-rock4-nl/
LOCATION:Intermezzo (Spectaculum Mundi)\, Graubündener Straße 100\, München\, 81475\, Deutschland
CATEGORIES:Vokal Total
ATTACH;FMTTYPE=image/jpeg:https://www.vokal-total-festival.de/wp-content/uploads/2024/11/Rock4-Queenshow-Press1-scaled.jpeg
ORGANIZER;CN="Romy Schmidt":MAILTO:romy.schmidt@t-online.de
GEO:48.09412;11.48173
X-APPLE-STRUCTURED-LOCATION;VALUE=URI;X-ADDRESS=Intermezzo (Spectaculum Mundi) Graubündener Straße 100 München 81475 Deutschland;X-APPLE-RADIUS=500;X-TITLE=Graubündener Straße 100:geo:11.48173,48.09412
END:VEVENT
BEGIN:VEVENT
DTSTART;TZID=Europe/Berlin:20251130T180000
DTEND;TZID=Europe/Berlin:20251130T190000
DTSTAMP:20260421T014120
CREATED:20180820T153657Z
LAST-MODIFIED:20251117T195416Z
UID:10000010-1764525600-1764529200@www.vokal-total-festival.de
SUMMARY:Chöre wie WIR – mit don camillo chor\, HARMUNICHS und OstBahnGroove / AUSVERKAUFT ---- Einlass 18.00 Uhr\, Beginn 19.00 Uhr
DESCRIPTION:Chöre wie WIR \nModeration: Andrea Piechotta\n\nVeranstalter: don camillo chor mit freundlicher Unterstützung des Kulturreferates der LH München\n\n\n::::::::::::::::::::::::::::::::::::::::::::::::::::::::::::::::::::::::::::::::::::::::::::::::::::::::::::::::::::::::::::::::::::::::::::\n\nDon Camillo Chor \nWenn draußen die Welt stiller wird und das Licht sanfter\, beginnt eine Zeit\, in der Klänge mehr sagen als Worte. Der don camillo chor unter der Leitung von Philipp Weiß lädt ein zu einer musikalischen Reise durch den Advent. Vertraute Weihnachtslieder in neuer Klarheit – mal mit feierlicher Wucht und rhythmischer Energie\, mal ganz reduziert\, fast wie ein Gebet. Seit über drei Jahrzehnten begeistert das Münchner Ensemble mit seiner unverwechselbaren Mischung aus Jazz-\, Pop-Feeling und authentischem Chorklang und hat sich weit über die Stadtgrenzen hinaus einen Namen gemacht. \nwww.doncamillo-chor.de \n \nHARMUNICHS \nMünchens mehrfach preisgekrönter Frauen-Barbershop- und A-Cappella-Pop-Chor HARMUNICHS sorgt mit seinem satten\, vierstimmigen Sound für ganz besondere Klangerlebnisse. Ob Hits aus Rock und Pop\, bekannte Songs aus Film und Musical oder amerikanische Christmas Carols – unter der Leitung von Monica Knox begeistern die fast 50 stimmgewaltigen Frauen ihr Publikum mit mitreißenden und berührenden Performances.\nwww.harmunichs.de \n \nOstBahnGroove \n2023 ersang sich der Chor beim Deutschen Chorwettbewerb 2023 in Hannover nicht nur den 1. Platz in der Kategorie ‚Populäre Chormusik‘\, sondern gar die beste Wertung des gesamten Wettbewerbs. Mit passgenau auf den Chor zugeschnittenen Nummern zwischen Jazz-\, Funk- und Pop und dem Ehrgeiz die eigene vokale Farbpalette an möglichen Sounds und Klängen stetig weiterzuentwickeln\, sieht sich OstBahnGroove dabei immer noch als ein experimentierfreudiges Bandprojekt\, das sein Publikum immer wieder aufs Neue mit innovativen Ideen und neuen Impulsen begeistern will. www.ostbahngroove.de
URL:https://www.vokal-total-festival.de/event/ostbahngroove-wolfratsgauser-kinderchorgreg-is-back/
LOCATION:Technikum\, Speicherstraße 26\, München\, Bayern\, 81671\, Deutschland
CATEGORIES:Vokal Total
ATTACH;FMTTYPE=image/jpeg:https://www.vokal-total-festival.de/wp-content/uploads/2022/05/Logo_CHörewiewir-01.jpg
END:VEVENT
END:VCALENDAR