BEGIN:VCALENDAR
VERSION:2.0
PRODID:-//Vokal Total - ECPv6.2.9//NONSGML v1.0//EN
CALSCALE:GREGORIAN
METHOD:PUBLISH
X-ORIGINAL-URL:https://www.vokal-total-festival.de
X-WR-CALDESC:Veranstaltungen für Vokal Total
REFRESH-INTERVAL;VALUE=DURATION:PT1H
X-Robots-Tag:noindex
X-PUBLISHED-TTL:PT1H
BEGIN:VTIMEZONE
TZID:Europe/Berlin
BEGIN:DAYLIGHT
TZOFFSETFROM:+0100
TZOFFSETTO:+0200
TZNAME:CEST
DTSTART:20250330T010000
END:DAYLIGHT
BEGIN:STANDARD
TZOFFSETFROM:+0200
TZOFFSETTO:+0100
TZNAME:CET
DTSTART:20251026T010000
END:STANDARD
END:VTIMEZONE
BEGIN:VEVENT
DTSTART;TZID=Europe/Berlin:20250412T190000
DTEND;TZID=Europe/Berlin:20250412T200000
DTSTAMP:20260421T122137
CREATED:20220818T133811Z
LAST-MODIFIED:20250204T170223Z
UID:10000017-1744484400-1744488000@www.vokal-total-festival.de
SUMMARY:APPLAUS APPLAUS -- 21. / 22. März - 28. / 29. März - 04. / 05. April - 11. / 12. April  - Tickets NUR unter: www.applaus-applaus.de
DESCRIPTION:Willkommen in der faszinierenden Welt des Musicals! \nGehen Sie mit auf eine Reise ins schöne Verona\, zur Kaiserin nach Wien oder in die Nachtclubs von New York! Lassen Sie sich verzaubern mit Songs und Szenen aus den weltweit erfolgreichsten Musicals\, mit Herz\, Witz und Leidenschaft\, präsentiert von sechs einzigartigen Künstlern! \nTermine 2025:\n \n21. / 22. März\n28. / 29. März\n04. / 05. April\n11. / 12. April \nTickets NUR unter: www.applaus-applaus.de \nInformationen unter: www.applaus-applaus.de
URL:https://www.vokal-total-festival.de/event/applaus-applaus-6/
LOCATION:Intermezzo (Spectaculum Mundi)\, Graubündener Straße 100\, München\, 81475\, Deutschland
CATEGORIES:a cappella & mehr,Musical Time
ATTACH;FMTTYPE=image/jpeg:https://www.vokal-total-festival.de/wp-content/uploads/2023/02/Bild-Datum-Original-Z06_9212.jpg
GEO:48.09412;11.48173
X-APPLE-STRUCTURED-LOCATION;VALUE=URI;X-ADDRESS=Intermezzo (Spectaculum Mundi) Graubündener Straße 100 München 81475 Deutschland;X-APPLE-RADIUS=500;X-TITLE=Graubündener Straße 100:geo:11.48173,48.09412
END:VEVENT
END:VCALENDAR