BEGIN:VCALENDAR
VERSION:2.0
PRODID:-//Vokal Total - ECPv6.2.9//NONSGML v1.0//EN
CALSCALE:GREGORIAN
METHOD:PUBLISH
X-WR-CALNAME:Vokal Total
X-ORIGINAL-URL:https://www.vokal-total-festival.de
X-WR-CALDESC:Veranstaltungen für Vokal Total
REFRESH-INTERVAL;VALUE=DURATION:PT1H
X-Robots-Tag:noindex
X-PUBLISHED-TTL:PT1H
BEGIN:VTIMEZONE
TZID:Europe/Berlin
BEGIN:DAYLIGHT
TZOFFSETFROM:+0100
TZOFFSETTO:+0200
TZNAME:CEST
DTSTART:20240331T010000
END:DAYLIGHT
BEGIN:STANDARD
TZOFFSETFROM:+0200
TZOFFSETTO:+0100
TZNAME:CET
DTSTART:20241027T010000
END:STANDARD
END:VTIMEZONE
BEGIN:VEVENT
DTSTART;TZID=Europe/Berlin:20240323T200000
DTEND;TZID=Europe/Berlin:20240323T203000
DTSTAMP:20260422T113042
CREATED:20240314T100851Z
LAST-MODIFIED:20240314T105056Z
UID:10000036-1711224000-1711225800@www.vokal-total-festival.de
SUMMARY:JANIZ ----- Tickets: https://www.eventbrite.com/o/janiz-63337197433
DESCRIPTION:Kein Booker\, kein Manager… aber JANIZ auf Tour! \nSeit Anfang 2023 passiert etwas mit dieser Band. Erst waren es kleine Erfolge auf Social Media\, die Zahlen im Onlineshop gingen langsam nach oben… ab und an kam plötzlich Fanpost. Und als alle noch versuchen zu verstehen was passiert\, sind wir plötzlich auf Tour! \nWarum können Janiz so gut Pop Punk? So authentisch Emo? Weil ihnen immer egal war\, was grade Trend ist. Und als die ganze Welt dem 2000er Pop Punk erliegt\, ist Sängerin Juli wohl eben mit Ihrer Einschulung beschäftigt. Janiz bedienen kein sicheres Rezept und kopieren keine alten Helden\, sie sind Ausdruck eines Musik gewordenen Lifestyles\, der ganz natürlich mit ihnen gewachsen ist. Angefangen als Popprojekt\, gewachsen zu einer Alternative Band um dann schließlich ihren ganz eigenen Sound zu finden. Darum antworten Sie auf die Frage\, warum sie so authentisch Pop Punk können meist knapp… weil es genau so authentisch ist. \nwww.janizofficial.com \nTickets erhältlich: https://www.eventbrite.com/o/janiz-63337197433 \n 
URL:https://www.vokal-total-festival.de/event/janiz/
LOCATION:Intermezzo (Spectaculum Mundi)\, Graubündener Straße 100\, München\, 81475\, Deutschland
CATEGORIES:a cappella & mehr
ATTACH;FMTTYPE=image/jpeg:https://www.vokal-total-festival.de/wp-content/uploads/2024/03/EB_Muenchen_FOS.jpg
GEO:48.09412;11.48173
X-APPLE-STRUCTURED-LOCATION;VALUE=URI;X-ADDRESS=Intermezzo (Spectaculum Mundi) Graubündener Straße 100 München 81475 Deutschland;X-APPLE-RADIUS=500;X-TITLE=Graubündener Straße 100:geo:11.48173,48.09412
END:VEVENT
END:VCALENDAR