BEGIN:VCALENDAR
VERSION:2.0
PRODID:-//Vokal Total - ECPv6.2.9//NONSGML v1.0//EN
CALSCALE:GREGORIAN
METHOD:PUBLISH
X-WR-CALNAME:Vokal Total
X-ORIGINAL-URL:https://www.vokal-total-festival.de
X-WR-CALDESC:Veranstaltungen für Vokal Total
REFRESH-INTERVAL;VALUE=DURATION:PT1H
X-Robots-Tag:noindex
X-PUBLISHED-TTL:PT1H
BEGIN:VTIMEZONE
TZID:Europe/Berlin
BEGIN:DAYLIGHT
TZOFFSETFROM:+0100
TZOFFSETTO:+0200
TZNAME:CEST
DTSTART:20230326T010000
END:DAYLIGHT
BEGIN:STANDARD
TZOFFSETFROM:+0200
TZOFFSETTO:+0100
TZNAME:CET
DTSTART:20231029T010000
END:STANDARD
END:VTIMEZONE
BEGIN:VEVENT
DTSTART;TZID=Europe/Berlin:20231203T180000
DTEND;TZID=Europe/Berlin:20231203T190000
DTSTAMP:20260424T135347
CREATED:20230113T104433Z
LAST-MODIFIED:20231025T063558Z
UID:10000014-1701626400-1701630000@www.vokal-total-festival.de
SUMMARY:VOKAL TOTAL – Lehrer haben Freizeit – "Lehrlauf-Derniére!"
DESCRIPTION:LEHRLAUF – Das 4. Programm – Derniére!\n \nDistanzunterricht\, Distanzsingen\, Distanzumarmen\, Distanzdistanzieren. \nDas täglich grüßende Murmeltier zeigt die Gestalt eines routinierten Umgangs mit einer kontinuierlichen Unsicherheit. In dieser Zeit bereiten sich nun fünf sozial entwöhnte\, stimmlich angerostete\, körperlich pandemieentstellte Lehrkörper vor\, ihre früheren nostalgisch verklärten Routinen neu zu gestalten. Bereiten sich vor\, erneut in einen professionellen LEHRLAUF zu gleiten\, der sie wieder in seine elliptische Kreisbahn aufnimmt. Getrieben von dem Ziel\, ihren ihnen noch stärker ans Herz gewachsenen Schülern – von Angesicht zu Angesicht – einen LEHRverLAUF bieten zu können\, bei dem es ein echter Gewinn ist beschult zu werden und zu beschulen. \nDie Münchener A-Cappella-Band LhF (Lehrer haben Freizeit) versucht all dies in ihrem neuen Programm LEHRLAUF auf die Bühne zu bringen. Geschickt und wortgewandt filetieren sie offenen Auges mit der Schärfe ihres Witzes und der Langlebigkeit überbrachter Stereotypen Vor- und Nachteile alter Routinen\, um auf der Grundlage ihrer Anamnese den lang ersehnten Neustart zu wagen. \nUnd so fühlt euch herzlich eingeladen mit uns einen Abend lang ein rauschendes A-Cappella-Fest und die Wiederbelebung der Kulturszene zu feiern. Gebettet in viele altbekannte Melodien – welche uns oft erst beim Hören entdecken\, wie sehr wir sie vermisst haben – verwöhnen wir Euch mit einigen überraschend neuen Texten zum lebenslangen LEHRLAUF. \nwww.lehrerhabenfreizeit.de
URL:https://www.vokal-total-festival.de/event/lehrer-haben-freizeit-lehrlauf-derniere/
LOCATION:Intermezzo (Spectaculum Mundi)\, Graubündener Straße 100\, München\, 81475\, Deutschland
CATEGORIES:a cappella & mehr,Vokal Total
ATTACH;FMTTYPE=image/jpeg:https://www.vokal-total-festival.de/wp-content/uploads/2021/07/LHF-1.jpg
GEO:48.09412;11.48173
X-APPLE-STRUCTURED-LOCATION;VALUE=URI;X-ADDRESS=Intermezzo (Spectaculum Mundi) Graubündener Straße 100 München 81475 Deutschland;X-APPLE-RADIUS=500;X-TITLE=Graubündener Straße 100:geo:11.48173,48.09412
END:VEVENT
BEGIN:VEVENT
DTSTART;TZID=Europe/Berlin:20231215T190000
DTEND;TZID=Europe/Berlin:20231215T200000
DTSTAMP:20260424T135347
CREATED:20220818T133604Z
LAST-MODIFIED:20231010T085539Z
UID:10000016-1702666800-1702670400@www.vokal-total-festival.de
SUMMARY:APPLAUS APPLAUS
DESCRIPTION:Herzlich willkommen zu “Applaus Applaus – die Musical-Show”. \nLassen Sie sich verzaubern von 6 einzigartigen Künstlern\, die mit Herz und Leidenschaft dabei sind. Auch dieses Mal sind wieder emotionale\, lustige\, gewaltige und unterhaltsame Musicalausschnitte dabei. Lassen Sie sich überraschen… Wir präsentieren Ihnen eine Show mit Songs aus Disneyfilmen\, dem Musical Chicago\, Sweeney Todd\, Mamma Mia\, Tanz der Vampire\, Les Miserables\, Dirty Dancing uvm. \nDie SHOW entsteht gerade… Genaues wird noch nicht verraten!;-) \nInformationen unter: www.applaus-applaus.de \n 
URL:https://www.vokal-total-festival.de/event/applaus-applaus/
LOCATION:Intermezzo (Spectaculum Mundi)\, Graubündener Straße 100\, München\, 81475\, Deutschland
CATEGORIES:a cappella & mehr,Musical Time
ATTACH;FMTTYPE=image/jpeg:https://www.vokal-total-festival.de/wp-content/uploads/2022/04/Z06_3048.jpg
GEO:48.09412;11.48173
X-APPLE-STRUCTURED-LOCATION;VALUE=URI;X-ADDRESS=Intermezzo (Spectaculum Mundi) Graubündener Straße 100 München 81475 Deutschland;X-APPLE-RADIUS=500;X-TITLE=Graubündener Straße 100:geo:11.48173,48.09412
END:VEVENT
BEGIN:VEVENT
DTSTART;TZID=Europe/Berlin:20231216T190000
DTEND;TZID=Europe/Berlin:20231216T200000
DTSTAMP:20260424T135347
CREATED:20170817T100506Z
LAST-MODIFIED:20231010T085520Z
UID:10000008-1702753200-1702756800@www.vokal-total-festival.de
SUMMARY:APPLAUS APPLAUS
DESCRIPTION:Herzlich willkommen zu “Applaus Applaus – die Musical-Show”. \nLassen Sie sich verzaubern von 6 einzigartigen Künstlern\, die mit Herz und Leidenschaft dabei sind. Auch dieses Mal sind wieder emotionale\, lustige\, gewaltige und unterhaltsame Musicalausschnitte dabei. Lassen Sie sich überraschen… Wir präsentieren Ihnen eine Show mit Songs aus Disneyfilmen\, dem Musical Chicago\, Sweeney Todd\, Mamma Mia\, Tanz der Vampire\, Les Miserables\, Dirty Dancing uvm. \nDie SHOW entsteht gerade… Genaues wird noch nicht verraten!;-) \nInformationen unter: www.applaus-applaus.de \n 
URL:https://www.vokal-total-festival.de/event/applaus-applaus-4/
LOCATION:Intermezzo (Spectaculum Mundi)\, Graubündener Straße 100\, München\, 81475\, Deutschland
CATEGORIES:a cappella & mehr,Musical Time
ATTACH;FMTTYPE=image/jpeg:https://www.vokal-total-festival.de/wp-content/uploads/2023/02/Z06_3815.jpg
GEO:48.09412;11.48173
X-APPLE-STRUCTURED-LOCATION;VALUE=URI;X-ADDRESS=Intermezzo (Spectaculum Mundi) Graubündener Straße 100 München 81475 Deutschland;X-APPLE-RADIUS=500;X-TITLE=Graubündener Straße 100:geo:11.48173,48.09412
END:VEVENT
END:VCALENDAR