BEGIN:VCALENDAR
VERSION:2.0
PRODID:-//Vokal Total - ECPv6.2.9//NONSGML v1.0//EN
CALSCALE:GREGORIAN
METHOD:PUBLISH
X-WR-CALNAME:Vokal Total
X-ORIGINAL-URL:https://www.vokal-total-festival.de
X-WR-CALDESC:Veranstaltungen für Vokal Total
REFRESH-INTERVAL;VALUE=DURATION:PT1H
X-Robots-Tag:noindex
X-PUBLISHED-TTL:PT1H
BEGIN:VTIMEZONE
TZID:Europe/Berlin
BEGIN:DAYLIGHT
TZOFFSETFROM:+0100
TZOFFSETTO:+0200
TZNAME:CEST
DTSTART:20260329T010000
END:DAYLIGHT
BEGIN:STANDARD
TZOFFSETFROM:+0200
TZOFFSETTO:+0100
TZNAME:CET
DTSTART:20261025T010000
END:STANDARD
END:VTIMEZONE
BEGIN:VEVENT
DTSTART;TZID=Europe/Berlin:20261212T190000
DTEND;TZID=Europe/Berlin:20261212T200000
DTSTAMP:20260421T050307
CREATED:20251031T121126Z
LAST-MODIFIED:20260108T133622Z
UID:10000040-1797102000-1797105600@www.vokal-total-festival.de
SUMMARY:VOKAL TOTAL - maybebop - Schöner Schein - NEUES Weihnachtsprogramm
DESCRIPTION:NEUES Weihnachtsprogramm \nSie haben es wieder getan: MAYBEBOP präsentiert mit Schöner Schein ihr nunmehr fünfte Weihnachtsshow. Und es ist erstaunlich\, was die vier dem Fest der Feste noch Neues abzugewinnen vermögen und wie frisch und unverbraucht es nach über 20 Bandjahren noch immer funzt auf der Bühne! \nMit Schöner Schein eröffnen neben neu interpretierten Klassikern wie Carol of the Bells\, Die Nacht ist vorgedrungen oder dem quirligen Heidschi Bumbeidschi wieder viele eigene deutsche Songs neue Blicke auf die heilige Nacht: Der tragikomische Tango Der Tod des Weihnachtsmannes und das berührende Was ich besaß behandeln auf höchst unterschiedliche Art und Weise den Glauben an den Mann mit Bart\, der energiegeladene Folk-Rock Die Ballade vom Fanta-Klaus erzählt von einer überraschenden Begegnung mit ebenjenem\, die pointierten Weihnachtsträumereien blicken hinter die Fassade mancher Weihnachtsidylle und das aus Sicht einer Tanne gesungene Immergrün empfiehlt sich als Pflichtstück in jedem Standard-Tanzkurs. Unbestrittenes Highlight ist ganz klar die Deutsch-Rap-Parodie KNG of LightZ\, in der klargestellt wird\, wer die Hütte mit dem höchsten Bling-Bling-Faktor hat: Grandios witzig und stilistisch auf den Punkt. \n Die Vocal-Band untermauert einmal mehr ihren Ausnahmestatus: das Weihnachtsprogramm Schöner Schein sprüht vor Ideen\, ist gleichermaßen virtuos wie bodenständig und überrascht live\, gewohnt stilsicher mit ausgefeilter Licht- und Ton-Show\, ergänzt durch smarte und charmante Video-Performance. \nwww.maybebop.de \n  \n 
URL:https://www.vokal-total-festival.de/event/vokal-total-maybebop-schoener-schein-neues-weihnachtsprogramm/
LOCATION:Bayern
CATEGORIES:Vokal Total
ATTACH;FMTTYPE=image/jpeg:https://www.vokal-total-festival.de/wp-content/uploads/2025/10/MBB_XMAS2024-Sven-Sindt_-2.jpeg
END:VEVENT
END:VCALENDAR