BEGIN:VCALENDAR
VERSION:2.0
PRODID:-//Vokal Total - ECPv6.2.9//NONSGML v1.0//EN
CALSCALE:GREGORIAN
METHOD:PUBLISH
X-WR-CALNAME:Vokal Total
X-ORIGINAL-URL:https://www.vokal-total-festival.de
X-WR-CALDESC:Veranstaltungen für Vokal Total
REFRESH-INTERVAL;VALUE=DURATION:PT1H
X-Robots-Tag:noindex
X-PUBLISHED-TTL:PT1H
BEGIN:VTIMEZONE
TZID:Europe/Berlin
BEGIN:DAYLIGHT
TZOFFSETFROM:+0100
TZOFFSETTO:+0200
TZNAME:CEST
DTSTART:20260329T010000
END:DAYLIGHT
BEGIN:STANDARD
TZOFFSETFROM:+0200
TZOFFSETTO:+0100
TZNAME:CET
DTSTART:20261025T010000
END:STANDARD
END:VTIMEZONE
BEGIN:VEVENT
DTSTART;TZID=Europe/Berlin:20261206T180000
DTEND;TZID=Europe/Berlin:20261206T190000
DTSTAMP:20260420T224834
CREATED:20251124T090503Z
LAST-MODIFIED:20260108T133742Z
UID:10000046-1796580000-1796583600@www.vokal-total-festival.de
SUMMARY:Chöre wie WIR mit: Isartonics + Herrenbesuch + VoicesInTime
DESCRIPTION:Chöre wie WIR\nMit: Isartonics + Herrenbesuch + VoicesInTime\nModeration: Andrea Piechotta \nIsartonics \nWir wissen\, dass My Love auch Your Love ist\, schlafen ohne dich heute Nacht nicht ein und stellen uns manchmal vor\, wir säßen am Meer. Wir singen „Scaramouche“ und „rätätätä“ und geben auf unseren Konzerten alles – in isarblauen Outfits mit viel guter Laune. Wir\, das sind die Isartonics\, und wir singen für euch bekannte und weniger bekannte a cappella Popstücke unter der Leitung von Patrick Prestel. Wir sehen uns! www.isartonics.de/ \nwww.instagram.com/isartonics/?hl=de \n \nHerrenbesuch \nHerrenbesuch hat sich wie kein anderer Münchner Chor dem A-Cappella-Gesang im Barbershop-Stil verschrieben. Unter Leitung von Andrew Rembecki singen hier über 50 Männer aller Altersstufen. Die Auftritte sind rundum sympathisch. Zwischen Publikum und Chor springt der Funke sofort über. Die charmante Unterhaltung weckt große und kleine Gefühle in allen Schattierungen. Das Ganze flankiert von einer Moderation mit Augenzwinkern und feinsinnigem Humor. www.herrenbesuch.net \n \nVoicesInTime  \nViel passiert bei VoicesInTime!\nNeue Chorleiterin\, neue Schwerpunkte\, viele neue Songs. Mit Sängerin\, Dirigentin und Chorleiterin Sonja Lachenmayr grooven\, rocken und tanzen wir durchs neue Programm\, suchen dabei immer nach frischen Klangfarben und freuen uns\, all das mit euch zu teilen. Auch nach über 30 Jahren bleiben wir unserem Motto treu: Ein Abend mit VoicesInTime ist ein Abend voller Überraschungen. Von Rockklassikern über aktuelle Charthits bis zu seltenen Songperlen und einer guten Portion smoothem Jazz – A-cappella kennt eben keine Grenzen. www.VoicesInTime.de \n \nVeranstalter: proVit – Friends of VoicesInTime e.V. 
URL:https://www.vokal-total-festival.de/event/2026-choere-wie-wir-mit-isartonics-herrenbesuch-voicesintime/
LOCATION:Technikum\, Speicherstr. 18\, Werksviertel Mitte\, München\, Bayern\, 81671\, Deutschland
CATEGORIES:Vokal Total
ATTACH;FMTTYPE=image/jpeg:https://www.vokal-total-festival.de/wp-content/uploads/2025/11/Logo_Choere_mit_Text.jpg
GEO:48.1647907;11.5883036
X-APPLE-STRUCTURED-LOCATION;VALUE=URI;X-ADDRESS=Technikum Speicherstr. 18 Werksviertel Mitte München Bayern 81671 Deutschland;X-APPLE-RADIUS=500;X-TITLE=Speicherstr. 18\, Werksviertel Mitte:geo:11.5883036,48.1647907
END:VEVENT
END:VCALENDAR