BEGIN:VCALENDAR
VERSION:2.0
PRODID:-//Vokal Total - ECPv6.2.9//NONSGML v1.0//EN
CALSCALE:GREGORIAN
METHOD:PUBLISH
X-ORIGINAL-URL:https://www.vokal-total-festival.de
X-WR-CALDESC:Veranstaltungen für Vokal Total
REFRESH-INTERVAL;VALUE=DURATION:PT1H
X-Robots-Tag:noindex
X-PUBLISHED-TTL:PT1H
BEGIN:VTIMEZONE
TZID:Europe/Berlin
BEGIN:DAYLIGHT
TZOFFSETFROM:+0100
TZOFFSETTO:+0200
TZNAME:CEST
DTSTART:20260329T010000
END:DAYLIGHT
BEGIN:STANDARD
TZOFFSETFROM:+0200
TZOFFSETTO:+0100
TZNAME:CET
DTSTART:20261025T010000
END:STANDARD
END:VTIMEZONE
BEGIN:VEVENT
DTSTART;TZID=Europe/Berlin:20261116T190000
DTEND;TZID=Europe/Berlin:20261116T200000
DTSTAMP:20260420T225104
CREATED:20251107T171829Z
LAST-MODIFIED:20260108T133921Z
UID:10000044-1794855600-1794859200@www.vokal-total-festival.de
SUMMARY:VOKAL  TOTAL - maybebop - NEUES PROGRAMM - - - Vier Typen. Vier Mikrofone. Sonst nichts.
DESCRIPTION:Manche Leute denken immer noch\, a cappella sei eine staubige Domäne für fade Musikdarbietungen ohne Wumms. Die haben ihre Rechnung ohne MAYBEBOP gemacht! Rund 25 Jahre nach ihrer Gründung sind sie unverbrauchter denn je und unterlaufen genüsslich jede Erwartungshaltung.\nWas diese Band seit einem Vierteljahrhundert hauptberuflich treibt\, ist weit mehr als bloße vokale Akrobatik. Es ist eine Auseinandersetzung mit der Essenz musikalischen Ausdrucks\, destilliert auf das rein Menschliche: die Stimme. Die Ergebnisse sind eigene\, deutschsprachige Kompositionen\, die sich elegant zwischen scharfzüngiger Satire\, tiefgründiger Reflexion\, berührender Empathie und absurder Komik bewegen. \nMAYBEBOP ist intellektuell agil und politisch unmissverständlich. Sie stehen für Toleranz und Offenheit\, ihre Texte sind eine klare Absage an jegliche Form des Populismus. Ihr erklärtes Anliegen ist es\, das Soziale und Gute nicht nur zu besingen\, sondern es aktiv zu befeuern. Dabei ist ihr Idealismus angenehm bodenständig und fest in der Realität verankert. Allein schon ihr grundsympathischer\, selbstironischer Umgang miteinander ist Balsam für jede Publikums-Seele. MAYBEBOP sperrt sich gegen festgefahrene Programmabläufe. Die Setlist setzt sich jeden Abend neu zusammen\, das Publikum bestimmt mit\, was gesungen wird: Brandneue Songs treffen auf gefeierte Klassiker\, Interaktion trifft auf Spontanität\, Neugier trifft auf Risikolust. Jeder Konzertabend gleicht einer Wundertüte\, feiert die Magie des Augenblicks und damit nicht weniger als das Leben an sich.
URL:https://www.vokal-total-festival.de/event/2026-vokal-total-maybebop-neues-programm-vier-typen-vier-mikrofone-sonst-nichts/
LOCATION:Alte Kongresshalle\, Theresienhöhe 14\, München\, 80339\, Deutschland
CATEGORIES:Vokal Total
ATTACH;FMTTYPE=image/jpeg:https://www.vokal-total-festival.de/wp-content/uploads/2025/11/MBB-PR_SvenSindt05.jpeg
GEO:48.1328;11.5459
X-APPLE-STRUCTURED-LOCATION;VALUE=URI;X-ADDRESS=Alte Kongresshalle Theresienhöhe 14 München 80339 Deutschland;X-APPLE-RADIUS=500;X-TITLE=Theresienhöhe 14:geo:11.5459,48.1328
END:VEVENT
END:VCALENDAR