BEGIN:VCALENDAR
VERSION:2.0
PRODID:-//Vokal Total - ECPv6.2.9//NONSGML v1.0//EN
CALSCALE:GREGORIAN
METHOD:PUBLISH
X-WR-CALNAME:Vokal Total
X-ORIGINAL-URL:https://www.vokal-total-festival.de
X-WR-CALDESC:Veranstaltungen für Vokal Total
REFRESH-INTERVAL;VALUE=DURATION:PT1H
X-Robots-Tag:noindex
X-PUBLISHED-TTL:PT1H
BEGIN:VTIMEZONE
TZID:Europe/Berlin
BEGIN:DAYLIGHT
TZOFFSETFROM:+0100
TZOFFSETTO:+0200
TZNAME:CEST
DTSTART:20260329T010000
END:DAYLIGHT
BEGIN:STANDARD
TZOFFSETFROM:+0200
TZOFFSETTO:+0100
TZNAME:CET
DTSTART:20261025T010000
END:STANDARD
END:VTIMEZONE
BEGIN:VEVENT
DTSTART;TZID=Europe/Berlin:20261114T190000
DTEND;TZID=Europe/Berlin:20261114T200000
DTSTAMP:20260420T224832
CREATED:20251118T122419Z
LAST-MODIFIED:20260108T133942Z
UID:10000045-1794682800-1794686400@www.vokal-total-festival.de
SUMMARY:VOKAL TOTAL - Alte Bekannte - Mehr Live! 2.0
DESCRIPTION:MEHR! – live Promo 2025 16-9 \nAlte Bekannte wollen mehr. Mehr neue Songs\, mehr großartige Konzertabende – und vor allem noch mehr glückliche Konzertbesucher:innen. Kurz: „Mehr! – Live“.\nSeit 2025 präsentieren Alte Bekannte ihr bereits fünftes Bühnenprogramm innerhalb von nur sieben Jahren. Die ehemaligen „Wise Guys“-Mitglieder beweisen damit einmal mehr\, warum sie aus der deutschen Musiklandschaft nicht mehr wegzudenken sind:\nmusikalisch wie textlich herausragende Songs\, kombiniert mit ihrer unverwechselbaren Bühnenpräsenz und charmanten Moderationen. Das Ergebnis ist etwas\, das heute seltener geworden ist – richtig gute Laune.\nDas Programm verbindet brandneue Stücke mit beliebten Titeln der bisherigen Alben sowie einer Auswahl „unkaputtbarer“ Klassiker der Vorgängerband. Witzig\, nachdenklich\, berührend und häufig ausgesprochen tanzbar – ein Konzertabend\, der lange nachhallt und nur ein Gefühl hinterlässt: Mehr davon!\nDas neue Album: „Mehr!“\nMit ihrem aktuellen Album „Mehr!“ zeigen Alte Bekannte\, dass sie längst weit über das Label „Wise Guys-Nachfolger“ hinausgewachsen sind. Der Titel ist Programm: mehr musikalische und textliche Vielfalt\, mehr Groove\, mehr Humor\, mehr Tiefgang – einfach mehr Genuss.\nMit 15 Studiotracks und 3 Live-Aufnahmen enthält das Album zudem so viele Songs wie keines zuvor. Schlag auf Schlag wechseln mitreißende Spaßnummern wie „Tassen“ und „Irgendwas ist immer“ mit gefühlvollen Balladen („Fehlt nichts“\, „Was ich in dir sehʼ“) und Songs voller Leichtigkeit und Sprachwitz\n(„Wenn manʼs einmal kann“\, „Sprachnachricht“) – Erinnerungen an die besten Wise-Guys-Momente inklusive. Gleichzeitig widmet sich die Band gesellschaftlichen Themen wie in „Die graue Litfaßsäule“ oder „Wir sind mehr“. Der Titelsong „Mehr!“ setzt direkt zu Beginn ein kraftvolles Ausrufezeichen.\nViele Songs wurden bereits live getestet – und haben diese Feuertaufe mit Bravour bestanden. Seit ihrer Gründung 2018 gehören Alte Bekannte zu den erfolgreichsten A-cappella-Formationen im deutschsprachigen Raum. Entstanden ist das Album zu großen Teilen im Januar 2025 während einer kreativen Auszeit in einem abgelegenen Ferienhaus in Holland – mitten im Winter\, wenn dort kaum jemand Urlaub macht. Die abgeschiedene Atmosphäre hat ihre Wirkung nicht verfehlt: Ein Werk voller Spielfreude\, Vielfalt und musikalischer Überraschungen\, das die Band von ihrer besten Seite zeigt. \nhttps://altebekannte.band/ \nInstagram: @alte.bekannte \nFacebook: @altebekannte.band\nYouTube – TikTok – weitere Kanäle der Band
URL:https://www.vokal-total-festival.de/event/2026-vokal-total-alte-bekannte-mehr-live-2-0/
LOCATION:Alte Kongresshalle\, Theresienhöhe 14\, München\, 80339\, Deutschland
CATEGORIES:Vokal Total
ATTACH;FMTTYPE=image/jpeg:https://www.vokal-total-festival.de/wp-content/uploads/2025/11/Alte-Bekannte-Anna-Horn_1256-scaled.jpg
GEO:48.1328;11.5459
X-APPLE-STRUCTURED-LOCATION;VALUE=URI;X-ADDRESS=Alte Kongresshalle Theresienhöhe 14 München 80339 Deutschland;X-APPLE-RADIUS=500;X-TITLE=Theresienhöhe 14:geo:11.5459,48.1328
END:VEVENT
END:VCALENDAR