BEGIN:VCALENDAR
VERSION:2.0
PRODID:-//Vokal Total - ECPv6.2.9//NONSGML v1.0//EN
CALSCALE:GREGORIAN
METHOD:PUBLISH
X-WR-CALNAME:Vokal Total
X-ORIGINAL-URL:https://www.vokal-total-festival.de
X-WR-CALDESC:Veranstaltungen für Vokal Total
REFRESH-INTERVAL;VALUE=DURATION:PT1H
X-Robots-Tag:noindex
X-PUBLISHED-TTL:PT1H
BEGIN:VTIMEZONE
TZID:Europe/Berlin
BEGIN:DAYLIGHT
TZOFFSETFROM:+0100
TZOFFSETTO:+0200
TZNAME:CEST
DTSTART:20250330T010000
END:DAYLIGHT
BEGIN:STANDARD
TZOFFSETFROM:+0200
TZOFFSETTO:+0100
TZNAME:CET
DTSTART:20251026T010000
END:STANDARD
END:VTIMEZONE
BEGIN:VEVENT
DTSTART;TZID=Europe/Berlin:20251207T180000
DTEND;TZID=Europe/Berlin:20251207T190000
DTSTAMP:20260421T014009
CREATED:20230216T132118Z
LAST-MODIFIED:20251113T152448Z
UID:10000002-1765130400-1765134000@www.vokal-total-festival.de
SUMMARY:VOKAL TOTAL – SoulFood Delight "10 Jahre Sound & Soul" - AUSVERKAUFT - Nur noch 10 Stehplätze
DESCRIPTION:SoulFood Delight feiert 10 Jahre Sound & Soul \n2015: „Uptown Funk“ von Bruno Mars war der Song des Jahres\, der FC Bayern München Deutscher Fußballmeister – und unter der Diskokugel in einem Münchner Club hat sich auf Einladung von Patrick Prestel zum ersten Mal eine Gruppe ambitionierter A-cappella-Chorsänger für ein neues gemeinsames Projekt getroffen. Die Geburtsstunde von SoulFood Delight. 10 Jahre\, unzählige fantastische Konzerterlebnisse\, Reisen zu Festivals\, zu Wettbewerben und ein paar graue Haare später bringen wir ein Best-of auf die Bühne. Wir vereinen unser aktuelles Programm mit den beliebtesten Songs der vergangenen zehn Jahre. Das Publikum darf sich auf eine Zeitreise voller mitreißend arrangierter und performter A-cappella-Popsongs freuen – von Justin Timberlake über Ariana Grande und Taylor Swift bis zu Coldplay. Konzerte von SoulFood Delight waren\, sind und bleiben Futter für die Seele. \nwww.soulfooddelight.de
URL:https://www.vokal-total-festival.de/event/vokal-total-soulfood-delight/
LOCATION:Intermezzo (Spectaculum Mundi)\, Graubündener Straße 100\, München\, 81475\, Deutschland
CATEGORIES:a cappella & mehr,Vokal Total
ATTACH;FMTTYPE=image/jpeg:https://www.vokal-total-festival.de/wp-content/uploads/2025/01/Foto-SFD-2025.jpeg
GEO:48.09412;11.48173
X-APPLE-STRUCTURED-LOCATION;VALUE=URI;X-ADDRESS=Intermezzo (Spectaculum Mundi) Graubündener Straße 100 München 81475 Deutschland;X-APPLE-RADIUS=500;X-TITLE=Graubündener Straße 100:geo:11.48173,48.09412
END:VEVENT
END:VCALENDAR