BEGIN:VCALENDAR
VERSION:2.0
PRODID:-//Vokal Total - ECPv6.2.9//NONSGML v1.0//EN
CALSCALE:GREGORIAN
METHOD:PUBLISH
X-ORIGINAL-URL:https://www.vokal-total-festival.de
X-WR-CALDESC:Veranstaltungen für Vokal Total
REFRESH-INTERVAL;VALUE=DURATION:PT1H
X-Robots-Tag:noindex
X-PUBLISHED-TTL:PT1H
BEGIN:VTIMEZONE
TZID:Europe/Berlin
BEGIN:DAYLIGHT
TZOFFSETFROM:+0100
TZOFFSETTO:+0200
TZNAME:CEST
DTSTART:20250330T010000
END:DAYLIGHT
BEGIN:STANDARD
TZOFFSETFROM:+0200
TZOFFSETTO:+0100
TZNAME:CET
DTSTART:20251026T010000
END:STANDARD
END:VTIMEZONE
BEGIN:VEVENT
DTSTART;TZID=Europe/Berlin:20251205T190000
DTEND;TZID=Europe/Berlin:20251205T203000
DTSTAMP:20260421T014209
CREATED:20210617T100425Z
LAST-MODIFIED:20251203T153733Z
UID:10000015-1764961200-1764966600@www.vokal-total-festival.de
SUMMARY:Vokal Total – CASH-N-GO- "Endlich wieder da!" - NOCH 10 Stehplätze verfügbar!
DESCRIPTION:Endlich wieder da!:-) \nLetztes Jahr haben wir gefehlt. Warum? Ganz einfach: Um Euer Nutzungserlebnis weiter zu verbessern\, haben wir arrangiert\, geprobt\, Konzerte zu Übungszwecken in unbedeutenden Gegenden des Landes gegeben\, uns liften\, Fett absaugen\, die Zähne machen und die Zehennägel schneiden lassen. Wer uns noch nie gesehen hat\, wird uns nicht wiedererkennen!\nAnsonsten erlebt Ihr die bewährte -Qualität: Mit reichlich Humor und Improvisationstalent bringen wir von temporeichen Rock-\, Pop- und R&B-Hits über launige Schlager bis hin zu emotionalen Balladen alles auf die Bühne. Immer leidenschaftlich\, mal ernsthaft\, mal (selbst)ironisch berühren und amüsieren wir Euch zugleich. \nwww.cash-n-go.de \n\n\n\nhttps://www.youtube.com/watch?v=5aCuOi24yzY\n::::::::::::::::::::::::::::::::::::::::::::::::::::::::::::::::::::::::::::
URL:https://www.vokal-total-festival.de/event/cash-n-go-augsburg-2/
LOCATION:Intermezzo (Spectaculum Mundi)\, Graubündener Straße 100\, München\, 81475\, Deutschland
CATEGORIES:Vokal Total
ATTACH;FMTTYPE=image/jpeg:https://www.vokal-total-festival.de/wp-content/uploads/2019/02/CASH-N-GO-albern.jpg
GEO:48.09412;11.48173
X-APPLE-STRUCTURED-LOCATION;VALUE=URI;X-ADDRESS=Intermezzo (Spectaculum Mundi) Graubündener Straße 100 München 81475 Deutschland;X-APPLE-RADIUS=500;X-TITLE=Graubündener Straße 100:geo:11.48173,48.09412
END:VEVENT
END:VCALENDAR