BEGIN:VCALENDAR
VERSION:2.0
PRODID:-//Vokal Total - ECPv6.2.9//NONSGML v1.0//EN
CALSCALE:GREGORIAN
METHOD:PUBLISH
X-WR-CALNAME:Vokal Total
X-ORIGINAL-URL:https://www.vokal-total-festival.de
X-WR-CALDESC:Veranstaltungen für Vokal Total
REFRESH-INTERVAL;VALUE=DURATION:PT1H
X-Robots-Tag:noindex
X-PUBLISHED-TTL:PT1H
BEGIN:VTIMEZONE
TZID:Europe/Berlin
BEGIN:DAYLIGHT
TZOFFSETFROM:+0100
TZOFFSETTO:+0200
TZNAME:CEST
DTSTART:20250330T010000
END:DAYLIGHT
BEGIN:STANDARD
TZOFFSETFROM:+0200
TZOFFSETTO:+0100
TZNAME:CET
DTSTART:20251026T010000
END:STANDARD
END:VTIMEZONE
BEGIN:VEVENT
DTSTART;TZID=Europe/Berlin:20250315T190000
DTEND;TZID=Europe/Berlin:20250315T200000
DTSTAMP:20260421T160322
CREATED:20220818T134750Z
LAST-MODIFIED:20250204T161354Z
UID:10000020-1742065200-1742068800@www.vokal-total-festival.de
SUMMARY:9 to 5 - das große Show Ab-Revival vom 17. Jan bis 15. März 2025\, jeweils Fr + Sa ----- Tickets via - www.showab.de
DESCRIPTION:BITTE NUR DEN TICKETSHOP von WWW.SHOWAB.DE benutzen\, der Button „zum Ticketshop“ (orange) ist NICHT AKTIV. \nWeitere Infos unter: www.showab.de \n 
URL:https://www.vokal-total-festival.de/event/applaus-applaus-7/
LOCATION:Intermezzo (Spectaculum Mundi)\, Graubündener Straße 100\, München\, 81475\, Deutschland
CATEGORIES:a cappella & mehr,Musical Time
ATTACH;FMTTYPE=image/png:https://www.vokal-total-festival.de/wp-content/uploads/2024/03/9to5_TITLE_4C.png
GEO:48.09412;11.48173
X-APPLE-STRUCTURED-LOCATION;VALUE=URI;X-ADDRESS=Intermezzo (Spectaculum Mundi) Graubündener Straße 100 München 81475 Deutschland;X-APPLE-RADIUS=500;X-TITLE=Graubündener Straße 100:geo:11.48173,48.09412
END:VEVENT
END:VCALENDAR