BEGIN:VCALENDAR
VERSION:2.0
PRODID:-//Vokal Total - ECPv6.2.9//NONSGML v1.0//EN
CALSCALE:GREGORIAN
METHOD:PUBLISH
X-WR-CALNAME:Vokal Total
X-ORIGINAL-URL:https://www.vokal-total-festival.de
X-WR-CALDESC:Veranstaltungen für Vokal Total
REFRESH-INTERVAL;VALUE=DURATION:PT1H
X-Robots-Tag:noindex
X-PUBLISHED-TTL:PT1H
BEGIN:VTIMEZONE
TZID:Europe/Berlin
BEGIN:DAYLIGHT
TZOFFSETFROM:+0100
TZOFFSETTO:+0200
TZNAME:CEST
DTSTART:20240331T010000
END:DAYLIGHT
BEGIN:STANDARD
TZOFFSETFROM:+0200
TZOFFSETTO:+0100
TZNAME:CET
DTSTART:20241027T010000
END:STANDARD
END:VTIMEZONE
BEGIN:VEVENT
DTSTART;TZID=Europe/Berlin:20241019T193000
DTEND;TZID=Europe/Berlin:20241019T203000
DTSTAMP:20260422T005347
CREATED:20160222T145520Z
LAST-MODIFIED:20240705T130758Z
UID:10000004-1729366200-1729369800@www.vokal-total-festival.de
SUMMARY:Public Affair - Tickets nur an der Abendkasse\, Reservierungen unter 08142/5806902
DESCRIPTION:Partytime mit Public Affair \nDie Münchner Band Public Affair bietet ihrem Publikum vielseitige Covers mit einer großen stilistischen Bandbreite von Soul über funkige Grooves und Reggae bis hin zu rockigen Tunes. Klassiker aus den vergangenen fünf Jahrzehnten und aktuelle Songs versprechen einen abwechslungsreichen Partyabend\, der die Zuhörer in ihren Bann zieht und zum Abtanzen verführt. \nWeitere Infos auf www.publicaffair.de \nTickets nur an der Abendkasse\, Reservierungen unter 08142/5806902 \n  \n 
URL:https://www.vokal-total-festival.de/event/public-affair/
LOCATION:Intermezzo (Spectaculum Mundi)\, Graubündener Straße 100\, München\, 81475\, Deutschland
CATEGORIES:a cappella & mehr
ATTACH;FMTTYPE=image/jpeg:https://www.vokal-total-festival.de/wp-content/uploads/2017/09/Public-Affair-2014-2-1920x1202.jpg
GEO:48.09412;11.48173
X-APPLE-STRUCTURED-LOCATION;VALUE=URI;X-ADDRESS=Intermezzo (Spectaculum Mundi) Graubündener Straße 100 München 81475 Deutschland;X-APPLE-RADIUS=500;X-TITLE=Graubündener Straße 100:geo:11.48173,48.09412
END:VEVENT
END:VCALENDAR