BEGIN:VCALENDAR
VERSION:2.0
PRODID:-//Vokal Total - ECPv6.2.9//NONSGML v1.0//EN
CALSCALE:GREGORIAN
METHOD:PUBLISH
X-WR-CALNAME:Vokal Total
X-ORIGINAL-URL:https://www.vokal-total-festival.de
X-WR-CALDESC:Veranstaltungen für Vokal Total
REFRESH-INTERVAL;VALUE=DURATION:PT1H
X-Robots-Tag:noindex
X-PUBLISHED-TTL:PT1H
BEGIN:VTIMEZONE
TZID:Europe/Berlin
BEGIN:DAYLIGHT
TZOFFSETFROM:+0100
TZOFFSETTO:+0200
TZNAME:CEST
DTSTART:20240331T010000
END:DAYLIGHT
BEGIN:STANDARD
TZOFFSETFROM:+0200
TZOFFSETTO:+0100
TZNAME:CET
DTSTART:20241027T010000
END:STANDARD
END:VTIMEZONE
BEGIN:VEVENT
DTSTART;TZID=Europe/Berlin:20240921T190000
DTEND;TZID=Europe/Berlin:20240921T200000
DTSTAMP:20260422T025032
CREATED:20190130T212051Z
LAST-MODIFIED:20240825T184840Z
UID:10000003-1726945200-1726948800@www.vokal-total-festival.de
SUMMARY:Benefizkonzert mit den blue traces und der Inhibitiers Allstar Band - Kartenreservierung unter: benefiz@magdolen.de
DESCRIPTION:Benefizkonzert mit den blue traces und der Inhibitiers Allstar Band zugunsten des Ärztecamps International e.V. \nBereits zum neunten Mal findet ein Benefizkonzert zur Unterstützung von Projekten des Ärztecamp International e.V. im Spectaculum mundi in Fürstenried (mit großartiger Unterstützung des Kreisjugendrings München) statt\, mit den beiden Bands\, den blue traces und den Inhibitiers Allstars\, die jede Menge Blues und Rock mit im Gepäck haben werden. \nWir schauen bisher auf eine sehr erfolgreiche Benefizkonzert-Serie zurück: zusammen mit dem Spendenerlös des letzten Konzerts im Mai 2023 mit 6.400 €\, haben wir in den bisherigen acht Konzerten insgesamt mehr als 76.000 € an Eintrittsgeldern und Spenden für die verschiedensten Projekte des Vereins zusammentragen können.\n\nDurch diese Finanzmittel war es uns in den letzten Jahren möglich\, viele sehr erfolgreiche Ärzteeinsätze durchführen zu können\, bei denen Tausende von Patienten_innen direkt vor Ort behandelt und versorgt werden konnten\, sowie zusätzlich u.a. Rollstühle\, Instrumentarien und Medikamente beschafft wurden.\n\nSo konnte in 2023 der Ärzteeinsatz in Bangladesch finanziert werden. Darüber hinaus wurde in Gambia die Errichtung einer Entbindungsstation und in Uganda der Bau einer Krankenstation unterstützt\, sowie der Aufbau einer Krankenstation im Flüchtlingslager der Rohingyas in Bangladesch. Desweiteren wurde im Februar 2024 der Einsatz in Nepal finanziell unterstützt.\n\nDer Erlös des diesjährigen Konzerts wird zu 100% für den Einsatz in Bangladesch im November 2024 verwendet werden\, wo wir eng mit der Organisation Friendship zusammen arbeiten\, die dort zwei Hospitalschiffe und eine Landklinik betreiben. Dadurch wird es unserem Ärzteteam ermöglicht\, auch Operationen direkt vor Ort durchzuführen. Auf der Agenda des Ärztecamps stehen 2025 Einsätze in Nepal und Tansania und auch wieder in Bangladesch.\n\nHerzlichen Dank an alle Unterstützer des Benefizkonzerts! \nEintritt: € 13\,00 / ermäßigt € 10\,00; teilbestuhlt \nKartenreservierung unter: benefiz@magdolen.de \n 
URL:https://www.vokal-total-festival.de/event/baulaerm-colourblind-benefizkonzert-zugunsten-ingenieure-ohne-grenzen/
LOCATION:Intermezzo (Spectaculum Mundi)\, Graubündener Straße 100\, München\, 81475\, Deutschland
CATEGORIES:a cappella & mehr
ATTACH;FMTTYPE=image/jpeg:https://www.vokal-total-festival.de/wp-content/uploads/2024/08/2024_B3.jpeg
GEO:48.09412;11.48173
X-APPLE-STRUCTURED-LOCATION;VALUE=URI;X-ADDRESS=Intermezzo (Spectaculum Mundi) Graubündener Straße 100 München 81475 Deutschland;X-APPLE-RADIUS=500;X-TITLE=Graubündener Straße 100:geo:11.48173,48.09412
END:VEVENT
END:VCALENDAR