BEGIN:VCALENDAR
VERSION:2.0
PRODID:-//Vokal Total - ECPv6.2.9//NONSGML v1.0//EN
CALSCALE:GREGORIAN
METHOD:PUBLISH
X-WR-CALNAME:Vokal Total
X-ORIGINAL-URL:https://www.vokal-total-festival.de
X-WR-CALDESC:Veranstaltungen für Vokal Total
REFRESH-INTERVAL;VALUE=DURATION:PT1H
X-Robots-Tag:noindex
X-PUBLISHED-TTL:PT1H
BEGIN:VTIMEZONE
TZID:Europe/Berlin
BEGIN:DAYLIGHT
TZOFFSETFROM:+0100
TZOFFSETTO:+0200
TZNAME:CEST
DTSTART:20240331T010000
END:DAYLIGHT
BEGIN:STANDARD
TZOFFSETFROM:+0200
TZOFFSETTO:+0100
TZNAME:CET
DTSTART:20241027T010000
END:STANDARD
END:VTIMEZONE
BEGIN:VEVENT
DTSTART;TZID=Europe/Berlin:20240427T190000
DTEND;TZID=Europe/Berlin:20240427T200000
DTSTAMP:20260422T112936
CREATED:20240308T161106Z
LAST-MODIFIED:20240308T161402Z
UID:10000035-1714244400-1714248000@www.vokal-total-festival.de
SUMMARY:dog´s breakfast
DESCRIPTION:Die Münchener Traditionsband dog´s breakfast – unkaputtbar und eskalationswillig – gibt sich erneut die Ehre. Und darüber hinaus nichts weniger als alles: Rock\, Pop\, Ethno\, A cappella\, Cover\, Eigenes und Eigenartiges\, Komisches und Ernstes\, bretthart Besinnliches und feingeistig Fetziges. \nDas aktuelle Programm lässt wiedermal keine Wünsche offen: Willkommen zu einer weiteren heiteren Ausgabe der In-Würde-Altern-Tour 2007-2027!\nWer den Reifungsprozess der Band live verfolgen und dabei Zeuge musikalischen Schabernacks (Cindy und Bert)\, grundguter Eigenkompositionen mit Tiefgang oder Coverversionen mit sehr eigener Handschrift werden will\, der findet hier sein Schlaraffenland! \nwww.dogsbreakfast.de
URL:https://www.vokal-total-festival.de/event/dogs-breakfast/
LOCATION:Intermezzo (Spectaculum Mundi)\, Graubündener Straße 100\, München\, 81475\, Deutschland
CATEGORIES:a cappella & mehr
ATTACH;FMTTYPE=image/jpeg:https://www.vokal-total-festival.de/wp-content/uploads/2024/03/Bandfoto-scaled.jpg
GEO:48.09412;11.48173
X-APPLE-STRUCTURED-LOCATION;VALUE=URI;X-ADDRESS=Intermezzo (Spectaculum Mundi) Graubündener Straße 100 München 81475 Deutschland;X-APPLE-RADIUS=500;X-TITLE=Graubündener Straße 100:geo:11.48173,48.09412
END:VEVENT
END:VCALENDAR