BEGIN:VCALENDAR
VERSION:2.0
PRODID:-//Vokal Total - ECPv6.2.9//NONSGML v1.0//EN
CALSCALE:GREGORIAN
METHOD:PUBLISH
X-ORIGINAL-URL:https://www.vokal-total-festival.de
X-WR-CALDESC:Veranstaltungen für Vokal Total
REFRESH-INTERVAL;VALUE=DURATION:PT1H
X-Robots-Tag:noindex
X-PUBLISHED-TTL:PT1H
BEGIN:VTIMEZONE
TZID:Europe/Berlin
BEGIN:DAYLIGHT
TZOFFSETFROM:+0100
TZOFFSETTO:+0200
TZNAME:CEST
DTSTART:20240331T010000
END:DAYLIGHT
BEGIN:STANDARD
TZOFFSETFROM:+0200
TZOFFSETTO:+0100
TZNAME:CET
DTSTART:20241027T010000
END:STANDARD
END:VTIMEZONE
BEGIN:VEVENT
DTSTART;TZID=Europe/Berlin:20240202T190000
DTEND;TZID=Europe/Berlin:20240202T200000
DTSTAMP:20260424T121227
CREATED:20220818T140826Z
LAST-MODIFIED:20231010T085339Z
UID:10000018-1706900400-1706904000@www.vokal-total-festival.de
SUMMARY:APPLAUS  APPLAUS
DESCRIPTION:Herzlich willkommen zu “Applaus Applaus – die Musical-Show”. \nLassen Sie sich verzaubern von 6 einzigartigen Künstlern\, die mit Herz und Leidenschaft dabei sind. Auch dieses Mal sind wieder emotionale\, lustige\, gewaltige und unterhaltsame Musicalausschnitte dabei. Lassen Sie sich überraschen… Wir präsentieren Ihnen eine Show mit Songs aus Disneyfilmen\, dem Musical Chicago\, Sweeney Todd\, Mamma Mia\, Tanz der Vampire\, Les Miserables\, Dirty Dancing uvm. \nDie SHOW entsteht gerade… Genaues wird noch nicht verraten!;-) \nInformationen unter: www.applaus-applaus.de \n 
URL:https://www.vokal-total-festival.de/event/applaus-applaus-12/
LOCATION:Intermezzo (Spectaculum Mundi)\, Graubündener Straße 100\, München\, 81475\, Deutschland
CATEGORIES:a cappella & mehr,Musical Time
ATTACH;FMTTYPE=image/jpeg:https://www.vokal-total-festival.de/wp-content/uploads/2023/02/Z06_3616.jpg
GEO:48.09412;11.48173
X-APPLE-STRUCTURED-LOCATION;VALUE=URI;X-ADDRESS=Intermezzo (Spectaculum Mundi) Graubündener Straße 100 München 81475 Deutschland;X-APPLE-RADIUS=500;X-TITLE=Graubündener Straße 100:geo:11.48173,48.09412
END:VEVENT
END:VCALENDAR