BEGIN:VCALENDAR
VERSION:2.0
PRODID:-//Vokal Total - ECPv6.2.9//NONSGML v1.0//EN
CALSCALE:GREGORIAN
METHOD:PUBLISH
X-ORIGINAL-URL:https://www.vokal-total-festival.de
X-WR-CALDESC:Veranstaltungen für Vokal Total
REFRESH-INTERVAL;VALUE=DURATION:PT1H
X-Robots-Tag:noindex
X-PUBLISHED-TTL:PT1H
BEGIN:VTIMEZONE
TZID:Europe/Berlin
BEGIN:DAYLIGHT
TZOFFSETFROM:+0100
TZOFFSETTO:+0200
TZNAME:CEST
DTSTART:20230326T010000
END:DAYLIGHT
BEGIN:STANDARD
TZOFFSETFROM:+0200
TZOFFSETTO:+0100
TZNAME:CET
DTSTART:20231029T010000
END:STANDARD
END:VTIMEZONE
BEGIN:VEVENT
DTSTART;TZID=Europe/Berlin:20231125T190000
DTEND;TZID=Europe/Berlin:20231125T200000
DTSTAMP:20260424T170153
CREATED:20201201T133824Z
LAST-MODIFIED:20231120T195018Z
UID:10000013-1700938800-1700942400@www.vokal-total-festival.de
SUMMARY:VOKAL TOTAL – maybebop - „Muss man mögen“
DESCRIPTION:﻿„Muss man mögen“ – neues Programm\n \nMAYBEBOP ist immer noch da\, reifer an Jahren und unverbrauchter denn je. In ihrer neuen Show präsentieren sie einen dampfenden Kessel neuer Songs: Vom kabarettistischen Höhenflug zur sprachlich wahnwitzigen Albernheit\, von berührender Ballade zu aufreibendem Elektropunk\, vom Gute-Laune-Ohrwurm zur bissigen Satire überrascht jede Nummer aufs Neue. Dabei sind die Jungs unerreicht uneitel und noch sympathischer\, spontaner und souveräner als beim letzten Mal. Also alles wie immer. \nMuss man mögen ist das zwölfte Bühnenprogramm nach über 20 gemeinsamen Jahren. Wie man nach einer solch langen Zeit noch immer dermaßen frisch klingen kann? Eigentlich ganz einfach: Der Gesangsvierer hat sich nie auf eine Masche festgelegt\, sondern entwickelt seine Kunst ständig weiter. Jeder Abend ist eine Bestandsaufnahme\, in jeder Konzertminute misst sich die Band am Hier und Jetzt. Musik\, Sound und Licht sowie Video sind miteinander verwoben und bilden ein Gesamterlebnis\, das in der Kultur-Szene herausragend  und einzigartig ist. \nMAYBEBOP mag man – oder man kennt sie nicht. Hat man sie erstmal kennengelernt\, bleibt einem keine Wahl:  Muss man mögen. \nMAYBEBOP sind: \nJan Bürger – Countertenor \nLukas Teske – Tenor & Beatbox \nOliver Gies – Bariton \nChristoph Hiller – Bass \n  \n\nhttps://www.maybebop.de/ \n  \nhttps://www.facebook.com/maybebop \n  \nPreise: \n1. Kat 35\,-  + Gebühren\, AK 42\,00 \n2. Kat 32\,-  + Gebühren\, AK 38\,00 \n::::::::::::::::::::::::::::::::::::::::::::::::
URL:https://www.vokal-total-festival.de/event/maybebop-hannover-ziellos/
LOCATION:Alte Kongresshalle\, Theresienhöhe 14\, München\, 80339\, Deutschland
CATEGORIES:Vokal Total
ATTACH;FMTTYPE=image/jpeg:https://www.vokal-total-festival.de/wp-content/uploads/2021/12/MBB_Bestoff_PR1_300dpi_FotoSvenSindt.jpeg
GEO:48.1328;11.5459
X-APPLE-STRUCTURED-LOCATION;VALUE=URI;X-ADDRESS=Alte Kongresshalle Theresienhöhe 14 München 80339 Deutschland;X-APPLE-RADIUS=500;X-TITLE=Theresienhöhe 14:geo:11.5459,48.1328
END:VEVENT
END:VCALENDAR